Workbook

Sheet お願い①
A1: お願い
A3: この度は、弊会にJGAP審査の見積もりのご依頼をいただきありがとうございます。
A4: 見積作成依頼書の作成に先立ちまして、確認していただきたいことがございますので、以下ご一読ください。
B5: 〇 | C5: 「１．見積作成依頼書」シートは、色付きのセルの部分をご記入ください。ブルーのセルは直接記入、ピンクのセルはプルダウンになっています。（前認証機関名、認証書有効期限は該当する場合、セルが水色になりますので、ご記入ください）
B6: 〇 | C6: 以下の条件に該当する場合は、申請を受け付けられませんのでご留意ください。
C7: ① | D7: JGAP認証取消しから５年未満
C8: ② | D8: 他のJGAP認証機関から同じ適用範囲について認証を取得している
C9: ③ | D9: 反社会的勢力またはそれに関連する組織と判明した時
C10: ④ | D10: 上記①～③以外で公平性に対する脅威の可能性があると判断した場合
B11: 〇 | C11: 用語の定義等につきまして、下表をご参考ください。
A14: 用語の定義等
A15: 農産物取扱い工程 | D15: 収穫後の水洗い、すすぎ、調整、選別、等級付け、包装、保管から出荷するまでが含まれます。これらの工程を外部委託している場合も含まれます。 該当する例：コメの乾燥調製、茶の荒茶製造、集荷場や客先への運送 該当しない例：客先が手配した便での回収(庭先集荷)、圃場での箱詰め・圃場から出荷先への直接の運送
A16: 外部委託 | D16: 認証の対象となる生産工程に関わる作業の一部を外部の組織に委託すること。 該当する例：播種、育苗、定植、潅水、管理(摘葉・摘果・剪定等)、施肥・施薬、収穫、取扱い(選別・選果・調整・包装・保管・運送等) 該当しない例：水質や残留農薬検査、畦草刈、機械の修理・メンテナンス、税金の申告
A17: サイト | D17: 統一された管理体制（同じ責任者に指示命令系統が統一され、認証範囲内の記録、出荷が集約されている管理体制のこと)をもつ審査の単位。農場、共同調整作業所、共同選果場、カントリーエレベーター、荒茶工場をサイトとしてとらえることができる。
A18: 品目名 | D18: 申請品目名はJGAP標準品目リストを参考にご記入ください。
D19: 青果物： | E19: https://jgap.jp/uploads/media/v3eUHugVAA
D20: 穀物： | E20: https://jgap.jp/uploads/media/yVh_5ZgVAA
D21: 茶： | E21: https://jgap.jp/uploads/media/v3eVgOwVAA

Sheet １．見積作成依頼書
I1: 記入日
A2: JGAP | G2: 審査見積作成依頼書
A3: フリガナ | N3: 2022 | P3: 個別
A4: 農場名/団体名 | P4: 団体
A5: フリガナ | G5: フリガナ
A6: 代表者氏名 | G6: 担当者氏名
A7: フリガナ | N7: 青果物
A8: 所在地 | C8: 〒 | N8: 穀物
A9: 交通手段 | C9: 最寄り駅： | F9: から | I9: で | L9: 分 | N9: 茶
A10: TEL | G10: 携帯( )
A11: E-mail | G11: Fax | N11: 栽培・収穫
N12: 栽培・収穫・農産物取扱い
A13: JGAP農場用 管理点と適合基準 | E13: 農産物の別 | I13: JGAP団体事務局用 管理点と適合基準 | N13: 栽培・収穫・農産物取扱い・仕上茶
A14: 申請品目名 | N14: 栽培・収穫・農産物取扱い・精米
A15: 対象工程
A16: 審査の種類 | E16: 前認証機関名 | I16: 認証書有効期限 | N16: 初回審査
A17: 審査希望時期 | G17: 認証取得希望時期 | N17: 維持審査
A18: GAPに関する指導（コンサルティング） | G18: あり(指導員名 ） | L18: なし | N18: 更新審査
N19: 移転審査
A20: 農場/団体の概要 | E20: 個別審査 | I20: 団体審査
A21: ① 農場数 | N21: 〇
A22: ② 取扱い施設 (団体管理) | C22: 数
C23: 時間
A24: ③ 取扱い施設 (農場管理) | C24: 数
C25: 時間
A26: ④ 圃場 | C26: 枚数/総面積
C27: 時間
A28: ⑤ 従業員数
A29: ⑥ 外部委託先 | C29: 数
C30: 時間
L31: SJG-RC60-6

Sheet お願い②
A1: お願い
A3: この度は、弊会にJGAP審査の申請をいただきありがとうございます。
A4: 申請書類の作成に先立ちまして、確認していただきたいことがございますので、以下ご一読ください。
B5: 〇 | C5: 「２．JGAP個別認証/団体認証 審査申請書」は、基本的に「１．見積作成依頼書」のデータを参照しています。内容ご確認の上、変更点がございましたら上書きをしてください。右上の記入日はご記入ください。
B6: 〇 | C6: 「別紙」もご記入ください(団体認証の用紙は別ファイル(A2)になっています)。
B7: 〇 | C7: ご申請の際には、本ファイル(xlsxのまま)及び、「３．JGAP 個別/団体認証 審査申請書」(押印しPDF化したもの)をメールにてお送りください。

Sheet ３．JGAP審査申請書
I1: 記入日
E2: JGAP | F2: =IF('１．見積作成依頼書'!F2="","",'１．見積作成依頼書'!F2) | G2: 認証審査申請書
A3: フリガナ | C3: =IF('１．見積作成依頼書'!C3="","",'１．見積作成依頼書'!C3) | N3: JGAP 2022 | P3: 個別認証
A4: 農場名/団体名 | C4: =IF('１．見積作成依頼書'!C4="","",'１．見積作成依頼書'!C4) | P4: 団体認証
A5: フリガナ | C5: =IF('１．見積作成依頼書'!C5="","",'１．見積作成依頼書'!C5) | G5: フリガナ | I5: =IF('１．見積作成依頼書'!I5="","",'１．見積作成依頼書'!I5)
A6: 代表者氏名 | C6: =IF('１．見積作成依頼書'!C6="","",'１．見積作成依頼書'!C6) | G6: 担当者氏名 | I6: =IF('１．見積作成依頼書'!I6="","",'１．見積作成依頼書'!I6)
A7: フリガナ | E7: =IF('１．見積作成依頼書'!E7="","",'１．見積作成依頼書'!E7) | N7: 青果物
A8: 所在地 | C8: =IF('１．見積作成依頼書'!C8="","",'１．見積作成依頼書'!C8) -> 〒 | E8: =IF('１．見積作成依頼書'!E8="","",'１．見積作成依頼書'!E8) | N8: 穀物
A9: 交通手段 | C9: 最寄り駅： | D9: =IF('１．見積作成依頼書'!D9="","",'１．見積作成依頼書'!D9) | F9: から | G9: =IF('１．見積作成依頼書'!G9="","",'１．見積作成依頼書'!G9) | I9: で | J9: =IF('１．見積作成依頼書'!J9="","",'１．見積作成依頼書'!J9) | L9: 分 | N9: 茶
A10: TEL | C10: =IF('１．見積作成依頼書'!C10="","",'１．見積作成依頼書'!C10) | G10: =IF('１．見積作成依頼書'!G10="","",'１．見積作成依頼書'!G10) -> 携帯( ) | I10: =IF('１．見積作成依頼書'!I10="","",'１．見積作成依頼書'!I10)
A11: E-mail | C11: =IF('１．見積作成依頼書'!C11="","",'１．見積作成依頼書'!C11) | G11: Fax | I11: =IF('１．見積作成依頼書'!I11="","",'１．見積作成依頼書'!I11) | N11: 栽培・収穫
A12: 請求書送付先
N13: 栽培・収穫・農産物取扱い
A14: JGAP農場用 管理点と適合基準 | C14: ='１．見積作成依頼書'!C13&"" | E14: 農産物の別 | G14: ='１．見積作成依頼書'!G13&"" | I14: JGAP団体事務局用 管理点と適合基準 | K14: ='１．見積作成依頼書'!K13&"" | N14: 栽培・収穫・農産物取扱い・仕上茶
A15: 申請品目名 | C15: =IF('１．見積作成依頼書'!C14="","",'１．見積作成依頼書'!C14) | N15: 栽培・収穫・農産物取扱い・精米
A16: うち存在品目
A17: 対象工程 | C17: =IF('１．見積作成依頼書'!C15="","",'１．見積作成依頼書'!C15)
A18: 審査の種類 | C18: =IF('１．見積作成依頼書'!C16="","",'１．見積作成依頼書'!C16) | E18: 前認証機関名 | G18: =IF('１．見積作成依頼書'!G16="","",'１．見積作成依頼書'!G16) | I18: 認証書有効期限 | K18: =IF('１．見積作成依頼書'!K16="","",'１．見積作成依頼書'!K16) | N18: 初回審査
A19: 審査希望時期 | C19: =IF('１．見積作成依頼書'!C17="","",'１．見積作成依頼書'!C17) | G19: 認証取得希望時期 | I19: =IF('１．見積作成依頼書'!I17="","",'１．見積作成依頼書'!I17) | N19: 維持審査
A20: GAPに関する指導（コンサルティング） | F20: =IF('１．見積作成依頼書'!F18="","",'１．見積作成依頼書'!F18) | G20: =IF('１．見積作成依頼書'!G18="","",'１．見積作成依頼書'!G18) -> あり(指導員名 ） | K20: =IF('１．見積作成依頼書'!K18="","",'１．見積作成依頼書'!K18) | L20: なし | N20: 更新審査
N21: 移転審査
A22: 農場/団体の概要 | E22: 個別審査 | I22: 団体審査
A23: ① 農場数 | E23: ='１．見積作成依頼書'!E21&"" | I23: ='１．見積作成依頼書'!I21&""
A24: ② 取扱い施設 (団体管理) | C24: 数 | I24: ='１．見積作成依頼書'!I22&""
C25: 時間 | I25: ='１．見積作成依頼書'!I23&""
A26: ③ 取扱い施設 (農場管理) | C26: 数 | E26: ='１．見積作成依頼書'!E24&"" | I26: ='１．見積作成依頼書'!I24&""
C27: 時間 | E27: ='１．見積作成依頼書'!E25&"" | I27: ='１．見積作成依頼書'!I25&""
A28: ④ 圃場 | C28: 枚数/面積 | E28: ='１．見積作成依頼書'!E26&""
C29: 時間 | E29: ='１．見積作成依頼書'!E27&""
A30: ⑤ 従業員数 | E30: ='１．見積作成依頼書'!E28&"" | I30: ='１．見積作成依頼書'!I28&""
A31: ⑥ 外部委託先 | C31: 数 | E31: ='１．見積作成依頼書'!E29&"" | I31: ='１．見積作成依頼書'!I29&""
C32: 時間 | E32: ='１．見積作成依頼書'!E30&"" | I32: ='１．見積作成依頼書'!I30&""
A35: 備考 農場への持込み禁止品、入場時の服装・装備等の注意事項があればご記入ください。
L40: SJG-RC94-3

Sheet 別紙(個別)
A1: 別紙(個別) 圃場・施設・外部委託先等の状況
A3: 圃場の情報
A4: 名称 | D4: 面積 | F4: 品目 | H4: 圃場の状態 | J4: 特記事項
D5: ( )
C16: 計 | D16: =IF(SUM(D6:D15)=0,"",SUM(D6:D15))
A18: 施設(農産物取扱い施設、倉庫等)の情報
A19: 名称 | D19: 取扱い 施設 | E19: 外部 委託 | F19: 用途 | I19: 所在地(番地まで) | M19: 責任者 | Q19: 特記事項
M20: 氏名 | O20: 連絡先/委託先
A28: 外部委託先の情報
A29: 名称/連絡先 | D29: 委託内容 | G29: 所在地(番地まで) | K29: 連絡先 | N29: 第三者認証 の有無 | P29: 取扱い工程 の有無 | R29: 取扱い施設 の有無
A37: 労働者等の情報
C38: 経営者等 | F38: 労働者 | I38: うち外国人 | L38: 計
A39: 常時(無期) | L39: =IF(SUM(C39:K39)=0,"",SUM(C39:K39))
A40: 臨時(有期) | L40: =IF(SUM(C40:K40)=0,"",SUM(C40:K40))
I41: 合計 | L41: =IF(SUM(L39:N40)=0,"",SUM(L39:N40))
A43: 責任者等の情報
A44: 農場の責任者 | D44: 商品管理の責任者 | G44: 肥料管理の責任者 | J44: 農薬管理の責任者 | M44: 労働安全の責任者 | P44: 労務管理の責任者
A48: 事務局記入欄
T54: SJG-RC94-3

Sheet ４．JGAP認証同意書
A1: JGAP認証同意書
A3: 甲： | B3: 一般社団法人日本油料検定協会 認証事業部
A4: 乙： | B4: ='３．JGAP審査申請書'!C4&""
A5: 甲及び乙は、次のとおり合意する。
A7: 第１条（乙の同意事項）
A8: 乙は、次の事項について同意します。
A9: （１） | B9: 乙は、最新の「JGAP 総合規則 農産」(以下、最新の総合規則)及び申請書記載の「JGAP農場用 管理点と適合基準」(以下、適用規格)の内容を理解し、遵守します。これらの内容に違反した場合は速やかに甲に報告し、指示に従います。 （※団体認証の場合、これらに加え『JGAP団体事務局用 管理点と適合基準』を含む）
A10: （２） | B10: 乙は、認証の対象範囲に関して適用規格の要求事項に継続的に取り組みます。
A11: （３） | B11: 乙は、（１）に沿って年１回以上の自己点検を行い、初回審査(移転後初回審査を含む)では、不適合があった場合は、審査日までに是正を完了させます。（※団体認証の場合、内部監査）
A12: （４） | B12: 乙は、審査中に自己点検が行われていないことが判明した場合、審査を終了することがありますが、その場合でも審査料金が発生することを受け入れます。（※（８）（３１）参照）
A13: （５） | B13: 乙は、認証後に圃場を追加する場合、適用規格の追加圃場に関する自己点検を実施し適合していることを確認したのちに、追加圃場で生産された農産物を認証農産物として扱います。 （※団体認証の場合、内部監査）
A14: （６） | B14: 乙は、審査中に審査員が審査箇所の追加・変更が必要と判断した場合、別途追加料金が発生する場合があることを受け入れます。（※（３１参照））
A15: （７） | B15: 乙は、外部委託する作業が適用規格に基づき実施されることに責任を持ちます。
A16: （８） | B16: 乙は、以下の理由で審査が中止された場合、審査は無効となり、「キャンセルポリシー」に規定したキャンセル料金が発生することを受け入れます。（※（３１参照））
B17: ① | C17: 乙の都合で審査が中断された場合。
B18: ② | C18: 乙に起因する理由で審査の続行が不可能と審査員が判断した場合。
B19: ③ | C19: 審査直前又は審査中にキャンセルをした場合。
A20: （９） | B20: 乙は、甲の審査、確認業務（審査員が審査に必要と判断した記録・文書の閲覧など）に協力します。
A21: （１０） | B21: 乙は、審査に必要な書類の提出を甲が確認後、正式な審査申込の受理となり、審査計画の手続きが開始されることを了承します。
A22: （１１） | B22: 乙は、審査員が審査に必要と判断した記録・文書の閲覧、甲の視察、認定機関等による立ち合い審査及びオブザーバー（見学者）の参加を受け入れます。
A23: （１２） | B23: 乙は、乙のオブザーバー（見学者）を参加させる場合は事前に甲に連絡をします。 また乙のオブザーバー（見学者）には審査員の許可のない発言はさせません。審査の進行に支障がある発言等をするオブザーバー(見学者)に、審査員が退出を求めることがあることを了承します。
A24: （１３） | B24: 乙は、甲の承諾なく審査中の録画・録音はしないことを了承します。
A25: （１４） | B25: 乙は、JGAPに関するすべての苦情、製品の不備は、調査し適切な処置を行い、記録を残します。また、甲及び審査員が調査を行うことと記録を閲覧することを受け入れます。
A26: （１５） | B26: 乙は、JGAP認証の表明を文書/パンフレット/宣伝・広告物等の媒体で行う場合、あらゆる表明内容に虚偽がないように行います。
A27: （１６） | B27: 乙は、認証書の写しを他者に提供する場合、付属書を含む認証書のすべてを写しである識別を確実にして提供します。また乙は、その他の審査に関する情報（審査報告書等）を他者に開示する場合は甲に連絡し許可を得ます。
A28: （１７） | B28: 乙は、認証範囲に品目、農産物取扱い施設を追加・取消しをする場合及び乙の名称、所在地、責任者氏名、連絡先、その他、構成サイトなど認証書に記載の内容等の追加・変更が発生した場合には、速やかに甲に連絡をします。 また乙は、追加・変更内容に応じて、書類審査、追加審査が必要な場合があることを受け入れます。
A29: （１８） | B29: 乙は、JGAP認証マークの使用に際し、最新の「JGAP総合規則 農産」「JGAPロゴマーク使用の細則」等を遵守します。
A30: （１９） | B30: 乙は、苦情及び異議申し立てがある場合、甲に文書をメール等にて送付します。
A31: （２０） | B31: 乙は、乙が反社会的勢力（「暴力団員による不当な行為の防止等に関する法律」に定義する「暴力団」およびその関係団体等をいう）である、および/または反社会的勢力を利用している場合、甲は申請等の状況を問わず、甲より審査依頼を拒否されることを了承します。
... A36: （２５） | B36: 乙は、審査全般において、下記①②の場合、再度現地で追加審査を行う場合があり、追加審査に関して別途費用が発生することを了承します。（※（３１参照））
B37: ① | C37: 乙の審査結果で必須項目の適合率が７０％以下の場合
B38: ② | C38: 乙の審査結果で、審査員が是正の現地確認が必要と判断し、甲がそれを認めた場合
B39: ③ | C39: 乙の審査結果のレビューまたは認証の決定の結果、甲が必要とした場合
B40: ④ | C40: 認証後の変更において、乙より申請を受けた結果、甲が必要とした場合
B41: ⑤ | C41: 乙の審査時に、審査申請書内容と認証を希望する範囲が異なる場合
A42: （２６） | B42: 乙は、甲が、下記①～③と判断した場合に臨時審査を実施することについて了承します。臨時審査に関する審査料金は乙の負担となることを受け入れます。（※（３１参照））
B43: ① | C43: 認証の信頼性に影響を及ぼすおそれのある重大な事象が生じたとき。
B44: ② | C44: 認証に関連するコンプライアンスの問題が存在する証拠または疑いがあるとき
B45: ③ | C45: 乙に不適合の証拠または疑いがあるとき
A46: （２７） | B46: 乙は、審査内容や審査時間について、審査毎に変更する場合があることを受け入れます。
A47: （２８） | B47: 乙は、認証の一時停止、取り消し、返上または認証範囲の縮小等により、甲から認証書の返却または破棄を求められた場合、速やかに対応します。
A48: （２９） | B48: 乙は、他の認証機関から、同じ適用範囲について認証を受けていません。
A49: （３０） | B49: 乙は、最新の総合規則に記載の認証の一時停止、取り消しまたは認証範囲の縮小に関する内容に該当する場合、甲の指示に従います。 また乙は、過去5年以内に認証機関から認証の取り消し処分は受けていません。
A50: （３１） | B50: 乙は、審査後に甲から送付される請求書に記載している期日までに以下の審査料金等を支払います。
B51: ① | C51: 通常の初回/維持/更新の認証審査に係る料金
B52: ② | C52: 上記①の審査において、乙の事情から審査を終了・中止（４）する際の、当初計画の認証審査に係る料金
B53: ③ | C53: 上記①の審査において、審査箇所の追加・変更が必要と判断された場合の別途の追加対応に係る料金
B54: ④ | C54: 追加審査（２５）・臨時審査（２６）に係る料金
B55: ⑤ | C55: 甲の「キャンセルポリシー」（８）が適用された際の料金
A56: （３２） | B56: 乙は、認証有効期限内であっても、JGAP認証を継続する意思のない場合、速やかに甲に認証返上の連絡をします。
A57: （３３） | B57: 乙は、甲の故意または過失により乙に損害を生じさせられた場合に甲が責を負う損害賠償責任額は、審査料金（交通費及び宿泊費を除く）の5倍を上限とすることを受け入れます。
A59: 第２条（甲の遵守事項）
A60: 甲は、次の事項を遵守します。
A61: （１） | B61: 甲は、JGAP認証審査にあたり、最新の総合規則を遵守致します。
A62: （２） | B62: 甲は、公平で非差別的な審査を実施致します。
A63: （３） | B63: 甲は、審査に関わる乙の情報に関して、乙に同意を得ている内容（本同意書（２３））及び乙が公開している情報を除き機密情報として取り扱います。（法律によって開示が要求される場合はこの限りではありません。）
A64: （４） | B64: 甲は、認証審査に関する以下の情報について、乙の要請に応じ利用できるように致します。 JGAP認証に関して（審査方法、認証の授与等の規則手順等）、審査料金に関して、JGAPロゴマークの使用法並びに授与した認証に関する情報及び苦情・異議申し立ての処理手順に関しての情報。
A65: （５） | B65: 甲は、最新の総合規則に基づき乙に以下の権利を認めます。
B66: ① | C66: 乙は、甲に対し苦情・異議申し立てができる。
B67: ② | C67: 乙は、（一財）日本ＧＡＰ協会または（公財）日本適合性認定協会に対して苦情の申し立てができる。
B68: ③ | C68: 乙は、甲が作成した乙に対して行った審査の審査報告書及びそれに関する情報について、甲が第3者に開示する事に対して許可する権利をもつ。
A70: 本同意書は、甲及び乙が署名・捺印し成立します。
B72: 記入日 | D72: =IF('３．JGAP審査申請書'!J1="","",'３．JGAP審査申請書'!J1)
D74: 甲： | E74: 一般社団法人日本油料検定協会 認証事業部
E75: 神奈川県横浜市南区永田南1-2-34
E76: 認証事業部担当理事
H77: 印
D79: 乙： | E79: =IF('３．JGAP審査申請書'!C4="","",'３．JGAP審査申請書'!C4)
E80: =IF('３．JGAP審査申請書'!E8="","",'３．JGAP審査申請書'!E8)
E81: 代表者名
H82: 印
I84: SJG-CO96-5

Sheet ５．審査当日までの流れ
A1: 審査当日までの流れ
A3: 項目 | C3: 時期(目安) | E3: 内容
A4: 審査日・審査員の確定 | C4: 申請書受理日から １週間以内 | E4: 決定した審査日・審査員を弊事業部よりご連絡いたします。 もし審査員に利害関係者が含まれる場合は、弊事業部までご連絡ください。
A5: 移転更新審査のみ | C5: 申請書提出前 | E5: □ | F5: 変更前の認証機関に、当該認証機関で認証の継続をしない旨伝えた。
A6: 必要書類のご提出 | C6: A 以下の文書を期日までにご提出ください。
C7: 審査２週間前 | E7: □ | F7: 自己点検/内部監査実施記録(不適合是正記録を含む)
E8: □ | F8: 管理点と適合基準7.3項(食品安全)、9.2項(労働安全)で求められているリスク管理表
E9: □ | F9: 団体認証の場合、団体事務局用管理点と適合基準3.1項で求められている、事務局とサイトの役割分担がわかる文書、3.2項で求められている事務局・農場用マニュアル
C10: B 移転更新審査の場合は、以下を追加でご提出ください。
C11: 申請時 | E11: □ | F11: 前認証機関発行の直近のJGAP認証書のコピー
E12: □ | F12: 前認証機関より審査時に受理された直近1回分のJGAP審査報告書(不適合内容、是正処置内容含む)
E13: □ | F13: 前回審査以降、依頼者様がJGAP認証範囲内に関する苦情または異議の申立てを受けた場合は、その内容と取られた処置の記録
E14: □ | F14: 前回審査以降、依頼者様がJGAPに関連する法規制に違反があった場合は、その内容ととられた処置の記録
E15: □ | F15: 「解約受理書」など、前認証機関が解約を承諾したことがわかる文書やメールなどの文書・記録
A16: 審査スケジュールの確定 | C16: 審査日の1か月前 | E16: 審査員より、詳細なスケジュールについてご連絡いたします。

Sheet 書式変更履歴
A1: 書式変更履歴
A2: Version | B2: 変更日 | C2: 主要な変更点
A3: 1 | B3: 2026.08.06 | C3: WORDからEXCELに変更 SJG-RC60-6、SJG-RC94-3、SJG-CO96-5を1ファイルに統合 SJG-RC95はSJG-RC94に、SJG-CO97はSJG-CO96に統合
